BEGIN:VCALENDAR
VERSION:2.0
PRODID:-//Eventos//NONSGML v1.0//EN
CALSCALE:GREGORIAN
METHOD:PUBLISH
X-WR-CALNAME:Eventos
X-WR-TIMEZONE:UTC
BEGIN:VEVENT
UID:20251021110000Z-138462@eventos.upm.es
DTSTAMP:20251021T110000Z
DTSTART:20251021T110000Z
DTEND:20251021T130000Z
SUMMARY:Liderar como eres: del autoconocimiento a la acción. Sesión octubre
DESCRIPTION:http://eventos.upm.es/event_detail/138462
LOCATION:ETS de Ingeniería Aeronáutica y del Espacio
END:VEVENT
BEGIN:VEVENT
UID:20240517093000Z-117369@eventos.upm.es
DTSTAMP:20240517T093000Z
DTSTART:20240517T093000Z
DTEND:20240517T103000Z
SUMMARY:Seminario: &quot;Innovative Research Topics in Polymer Science and Bioengineering - Advanced Polymer Materials Group&quot;
DESCRIPTION:http://eventos.upm.es/event_detail/117369
LOCATION:Centro de Tecnología Biomédica (CTB)
END:VEVENT
END:VCALENDAR
